OziExplorer Map Data File Version 2.2
2020-11-05_Roshinskyi.hlg
2020-11-05_Roshinskyi.hlg
1 ,Map Code,
WGS 84,, 0.0000, 0.0000,WGS 84
Reserved 1
Reserved 2
Magnetic Variation,,,E
Map Projection,Mercator,PolyCal,No,AutoCalOnly,No,BSBUseWPX,No
Point01,xy, 0, 0,in, deg, 53, 16.2016,N, 50, 14.7866,E, grid, , , ,N
Point02,xy, 5664, 0,in, deg, 53, 16.2016,N, 50, 29.3736,E, grid, , , ,N
Point03,xy, 11329, 0,in, deg, 53, 16.2016,N, 50, 43.9579,E, grid, , , ,N
Point04,xy, 0, 5555,in, deg, 53, 7.6123,N, 50, 14.7866,E, grid, , , ,N
Point05,xy, 5664, 5555,in, deg, 53, 7.6123,N, 50, 29.3736,E, grid, , , ,N
Point06,xy, 11329, 5555,in, deg, 53, 7.6123,N, 50, 43.9579,E, grid, , , ,N
Point07,xy, 0, 11110,in, deg, 52, 58.9942,N, 50, 14.7866,E, grid, , , ,N
Point08,xy, 5664, 11110,in, deg, 52, 58.9942,N, 50, 29.3736,E, grid, , , ,N
Point09,xy, 11329, 11110,in, deg, 52, 58.9942,N, 50, 43.9579,E, grid, , , ,N
Point10,xy, , ,in, deg, , ,N, , ,W, grid, , , ,N
Point11,xy, , ,in, deg, , ,N, , ,W, grid, , , ,N
Point12,xy, , ,in, deg, , ,N, , ,W, grid, , , ,N
Point13,xy, , ,in, deg, , ,N, , ,W, grid, , , ,N
Point14,xy, , ,in, deg, , ,N, , ,W, grid, , , ,N
Point15,xy, , ,in, deg, , ,N, , ,W, grid, , , ,N
Point16,xy, , ,in, deg, , ,N, , ,W, grid, , , ,N
Point17,xy, , ,in, deg, , ,N, , ,W, grid, , , ,N
Point18,xy, , ,in, deg, , ,N, , ,W, grid, , , ,N
Point19,xy, , ,in, deg, , ,N, , ,W, grid, , , ,N
Point20,xy, , ,in, deg, , ,N, , ,W, grid, , , ,N
Point21,xy, , ,in, deg, , ,N, , ,W, grid, , , ,N
Point22,xy, , ,in, deg, , ,N, , ,W, grid, , , ,N
Point23,xy, , ,in, deg, , ,N, , ,W, grid, , , ,N
Point24,xy, , ,in, deg, , ,N, , ,W, grid, , , ,N
Point25,xy, , ,in, deg, , ,N, , ,W, grid, , , ,N
Point26,xy, , ,in, deg, , ,N, , ,W, grid, , , ,N
Point27,xy, , ,in, deg, , ,N, , ,W, grid, , , ,N
Point28,xy, , ,in, deg, , ,N, , ,W, grid, , , ,N
Point29,xy, , ,in, deg, , ,N, , ,W, grid, , , ,N
Point30,xy, , ,in, deg, , ,N, , ,W, grid, , , ,N
Projection Setup,,,,,,,,,,
Map Feature = MF ; Map Comment = MC These follow if they exist
Track File = TF These follow if they exist
Moving Map Parameters = MM? These follow if they exist
MM0,Yes
MMPNUM,4
MMPXY,1,0,0
MMPXY,2,11329,0
MMPXY,3,11329,11110
MMPXY,4,0,11110
MMPLL,1, 50.246444, 53.270027
MMPLL,2, 50.732632, 53.270027
MMPLL,3, 50.732632, 52.983237
MMPLL,4, 50.246444, 52.983237
MM1B,2.866604
MOP,Map Open Position,0,0
IWH,Map Image Width/Height,11329,11110
