OziExplorer Map Data File Version 2.2
100k--o37-051.ozf2
100k--o37-051.ozf2
1 ,Map Code,
Pulkovo 1942 (2),WGS 84, 0.0000, 0.0000,WGS 84
Reserved 1
Reserved 2
Magnetic Variation,,,E
Map Projection,Transverse Mercator,PolyCal,No,AutoCalOnly,No,BSBUseWPX,No
Point01,xy, 110, 95,in, deg, 58, 40.0000,N, 37, 0.0000,E, grid, , , ,N
Point02,xy, 1252, 98,in, deg, 58, 40.0000,N, 37, 15.0000,E, grid, , , ,N
Point03,xy, 2396, 95,in, deg, 58, 40.0000,N, 37, 30.0000,E, grid, , , ,N
Point04,xy, 101, 1553,in, deg, 58, 30.0000,N, 37, 0.0000,E, grid, , , ,N
Point05,xy, 1250, 1556,in, deg, 58, 30.0000,N, 37, 15.0000,E, grid, , , ,N
Point06,xy, 2398, 1552,in, deg, 58, 30.0000,N, 37, 30.0000,E, grid, , , ,N
Point07,xy, 94, 3010,in, deg, 58, 20.0000,N, 37, 0.0000,E, grid, , , ,N
Point08,xy, 1248, 3012,in, deg, 58, 20.0000,N, 37, 15.0000,E, grid, , , ,N
Point09,xy, 2402, 3009,in, deg, 58, 20.0000,N, 37, 30.0000,E, grid, , , ,N
Point10,xy, , ,in, deg, , ,N, , ,W, grid, , , ,N
Point11,xy, , ,in, deg, , ,N, , ,W, grid, , , ,N
Point12,xy, , ,in, deg, , ,N, , ,W, grid, , , ,N
Point13,xy, , ,in, deg, , ,N, , ,W, grid, , , ,N
Point14,xy, , ,in, deg, , ,N, , ,W, grid, , , ,N
Point15,xy, , ,in, deg, , ,N, , ,W, grid, , , ,N
Point16,xy, , ,in, deg, , ,N, , ,W, grid, , , ,N
Point17,xy, , ,in, deg, , ,N, , ,W, grid, , , ,N
Point18,xy, , ,in, deg, , ,N, , ,W, grid, , , ,N
Point19,xy, , ,in, deg, , ,N, , ,W, grid, , , ,N
Point20,xy, , ,in, deg, , ,N, , ,W, grid, , , ,N
Point21,xy, , ,in, deg, , ,N, , ,W, grid, , , ,N
Point22,xy, , ,in, deg, , ,N, , ,W, grid, , , ,N
Point23,xy, , ,in, deg, , ,N, , ,W, grid, , , ,N
Point24,xy, , ,in, deg, , ,N, , ,W, grid, , , ,N
Point25,xy, , ,in, deg, , ,N, , ,W, grid, , , ,N
Point26,xy, , ,in, deg, , ,N, , ,W, grid, , , ,N
Point27,xy, , ,in, deg, , ,N, , ,W, grid, , , ,N
Point28,xy, , ,in, deg, , ,N, , ,W, grid, , , ,N
Point29,xy, , ,in, deg, , ,N, , ,W, grid, , , ,N
Point30,xy, , ,in, deg, , ,N, , ,W, grid, , , ,N
Projection Setup, 0.000000000, 39.000000000, 1.000000000, 500000.00, 0.00,,,,,
Map Feature = MF ; Map Comment = MC These follow if they exist
Track File = TF These follow if they exist
Moving Map Parameters = MM? These follow if they exist
MM0,Yes
MMPNUM,4
MMPXY,1,80,99
MMPXY,2,2420,99
MMPXY,3,2420,3008
MMPXY,4,80,3008
MMPLL,1, 36.993575, 58.666281
MMPLL,2, 37.505356, 58.666218
MMPLL,3, 37.503960, 58.333484
MMPLL,4, 36.996999, 58.333576
MM1B,12.684145
MOP,Map Open Position,0,0
IWH,Map Image Width/Height,2500,3107
